BEGIN:VCALENDAR
VERSION:2.0
PRODID:-//Seonagh Kummer - Dancer - Educator - Choreographer - ECPv6.15.20//NONSGML v1.0//EN
CALSCALE:GREGORIAN
METHOD:PUBLISH
X-WR-CALNAME:Seonagh Kummer - Dancer - Educator - Choreographer
X-ORIGINAL-URL:https://www.seonagh.com
X-WR-CALDESC:Events for Seonagh Kummer - Dancer - Educator - Choreographer
REFRESH-INTERVAL;VALUE=DURATION:PT1H
X-Robots-Tag:noindex
X-PUBLISHED-TTL:PT1H
BEGIN:VTIMEZONE
TZID:America/Vancouver
BEGIN:DAYLIGHT
TZOFFSETFROM:-0800
TZOFFSETTO:-0700
TZNAME:PDT
DTSTART:20200308T100000
END:DAYLIGHT
BEGIN:STANDARD
TZOFFSETFROM:-0700
TZOFFSETTO:-0800
TZNAME:PST
DTSTART:20201101T090000
END:STANDARD
BEGIN:DAYLIGHT
TZOFFSETFROM:-0800
TZOFFSETTO:-0700
TZNAME:PDT
DTSTART:20210314T100000
END:DAYLIGHT
BEGIN:STANDARD
TZOFFSETFROM:-0700
TZOFFSETTO:-0800
TZNAME:PST
DTSTART:20211107T090000
END:STANDARD
BEGIN:DAYLIGHT
TZOFFSETFROM:-0800
TZOFFSETTO:-0700
TZNAME:PDT
DTSTART:20220313T100000
END:DAYLIGHT
BEGIN:STANDARD
TZOFFSETFROM:-0700
TZOFFSETTO:-0800
TZNAME:PST
DTSTART:20221106T090000
END:STANDARD
BEGIN:DAYLIGHT
TZOFFSETFROM:-0800
TZOFFSETTO:-0700
TZNAME:PDT
DTSTART:20230312T100000
END:DAYLIGHT
BEGIN:STANDARD
TZOFFSETFROM:-0700
TZOFFSETTO:-0800
TZNAME:PST
DTSTART:20231105T090000
END:STANDARD
BEGIN:DAYLIGHT
TZOFFSETFROM:-0800
TZOFFSETTO:-0700
TZNAME:PDT
DTSTART:20240310T100000
END:DAYLIGHT
BEGIN:STANDARD
TZOFFSETFROM:-0700
TZOFFSETTO:-0800
TZNAME:PST
DTSTART:20241103T090000
END:STANDARD
BEGIN:DAYLIGHT
TZOFFSETFROM:-0800
TZOFFSETTO:-0700
TZNAME:PDT
DTSTART:20250309T100000
END:DAYLIGHT
BEGIN:STANDARD
TZOFFSETFROM:-0700
TZOFFSETTO:-0800
TZNAME:PST
DTSTART:20251102T090000
END:STANDARD
BEGIN:DAYLIGHT
TZOFFSETFROM:-0800
TZOFFSETTO:-0700
TZNAME:PDT
DTSTART:20260308T100000
END:DAYLIGHT
BEGIN:STANDARD
TZOFFSETFROM:-0700
TZOFFSETTO:-0800
TZNAME:PST
DTSTART:20261101T090000
END:STANDARD
BEGIN:DAYLIGHT
TZOFFSETFROM:-0800
TZOFFSETTO:-0700
TZNAME:PDT
DTSTART:20270314T100000
END:DAYLIGHT
BEGIN:STANDARD
TZOFFSETFROM:-0700
TZOFFSETTO:-0800
TZNAME:PST
DTSTART:20271107T090000
END:STANDARD
END:VTIMEZONE
BEGIN:VEVENT
DTSTART;TZID=America/Vancouver:20260416T100000
DTEND;TZID=America/Vancouver:20260416T113000
DTSTAMP:20260421T080428
CREATED:20260311T015113Z
LAST-MODIFIED:20260403T201918Z
UID:20428-1776333600-1776339000@www.seonagh.com
SUMMARY:Calming the Nervous System - Group Class April 16
DESCRIPTION:Class Time: 10:00am PST/1:00pm EST/7pm Paris \nClass is 1 hour 15 minutes\, with an optional 15-minute discussion after class. \nThis class is informed to help calm the nervous system and enhance feelings of wellbeing. We play with anatomical movement phrases derived from BodyMind Dancing™ (Dr. Martha Eddy)\, BodyMind Centering™ (Bonnie Bainbridge Cohen)\, and contemporary dance techniques. \nI guide class with imagery in a way that’s influenced by my background of meditation and yoga\, offering dance technique and imagery from contemporary Western and African movement languages. I nurture an open environment with good music where I hope you feel free to express yourself physically while taking care of your body’s needs. At the beginning of class each person is invited to share what is happening physically or emotionally\, and the class is guided in part by themes that come from the group.\nI choreograph movement to work for different levels of dancers\, with a warm-up\, skill-building practice\, and improvisation. We improvise with short movement phrases that help us attune to inner sensations and develop creatively. \nDonation is 10$. No one is turned away. At this time\, all proceeds go to Amor Propio’s network of therapists. This is a small\, volunteer-run nonprofit in Minneapolis that is providing free therapy services to Latinx families\, Spanish speaking clients and Indigenous Latinx populations throughout Minnesota. \nRegister for ClassShare this event with your network
URL:https://www.seonagh.com/event/calming-the-nervous-system-group-class-april-16/
CATEGORIES:DANCE,Online class,Online Event
ATTACH;FMTTYPE=image/jpeg:https://www.seonagh.com/wp-content/uploads/2021/04/seonagh-kummer-dancers-in-my-piecesIMG_3981-scaled-scaled.jpeg
END:VEVENT
BEGIN:VEVENT
DTSTART;TZID=America/Vancouver:20260402T100000
DTEND;TZID=America/Vancouver:20260402T111500
DTSTAMP:20260421T080428
CREATED:20260307T011351Z
LAST-MODIFIED:20260326T005948Z
UID:20368-1775124000-1775128500@www.seonagh.com
SUMMARY:Calming the Nervous System Group Class - April 2
DESCRIPTION:Class Time: 10:00am PST/1:00pm EST/7pm Paris \nThis class is informed to help calm the nervous system and enhance feelings of wellbeing. We play with anatomical movement phrases derived from BodyMind Dancing™ (Dr. Martha Eddy)\, BodyMind Centering™ (Bonnie Bainbridge Cohen)\, and contemporary dance techniques. \nI guide class with imagery in a way that’s influenced by my background of meditation and yoga\, offering dance technique and imagery from contemporary Western and African movement languages. I nurture an open environment with good music where I hope you feel free to express yourself physically while taking care of your body’s needs. At the beginning of class each person is invited to share what is happening physically or emotionally\, and the class is guided in part by themes that come from the group. \nI choreograph movement to work for different levels of dancers\, with a warm-up\, skill-building practice\, and improvisation. We improvise with short movement phrases that help us attune to inner sensations and develop creatively. \nSend me an email at seonagh@seonagh.com to get more information or to sign up! \nDonation is 10$. No one is turned away. At this time\, all proceeds go to Amor Propio’s network of therapists. This is a small\, volunteer-run nonprofit in Minneapolis that is providing free therapy services to Latinx families\, Spanish speaking clients and Indigenous Latinx populations throughout Minnesota. \nShare this event with your network
URL:https://www.seonagh.com/event/calming-the-nervous-system-group-class/
LOCATION:Online\, United States
CATEGORIES:DANCE,Online class,Online Event
ATTACH;FMTTYPE=image/jpeg:https://www.seonagh.com/wp-content/uploads/2021/04/seonagh-kummer-dancers-in-my-piecesIMG_3979-scaled-scaled.jpeg
ORGANIZER;CN="Se%C3%B3nagh Kummer":MAILTO:info@seonagh.com
END:VEVENT
BEGIN:VEVENT
DTSTART;TZID=America/Vancouver:20210710T070000
DTEND;TZID=America/Vancouver:20210710T093000
DTSTAMP:20260421T080428
CREATED:20210708T071553Z
LAST-MODIFIED:20210708T092144Z
UID:19540-1625900400-1625909400@www.seonagh.com
SUMMARY:International Solidarity Concert for India Covid Relief
DESCRIPTION:As we navigate vaccines and come out of lockdown in North America\, some countries such as India are experiencing the very worst of Covid19. Join our community in a global online solidarity concert and silent auction emceed by Bollywood star @geetsagarofficial on Saturday July 10 starting at 2pm PST. Our community\, our Sangha\, can help us embody a mindfulness practice. Thich Nhat Hanh speaks of true love being made of four elements: loving kindness\, compassion\, joy\, and equanimity. In Sanskrit\, these are\, maitri\, karuna\, mudita\, and upeksha. “If your love contains these elements\, it will be healing and transforming….True love has the power to heal and transform any situation and bring deep meaning to our lives” (Thich Nhat Hanh). Who is your community\, and how can you reach out with love? Join us to support and hear from frontline workers for India Covid relief. This is a moment that shows the power of small steps that can make a difference as several Gandhian organizations came together since April when the horrific second deadly wave of covid hit India. Please come\, share your solidarity\, enjoy beautiful music\, dance\, and art\, and hear updates from the frontlines to see how donations are assisting on the front lines. It is a hard time for many of us\, but even if you cannot donate\, you can share love and compassion by attending. It means a lot. \nDate and Time: Saturday July 10\, 2021 2:00pm-4:30pm PST. Zoom id: 82460142653 Password: jaijagat
URL:https://www.seonagh.com/event/international-solidarity-concert-for-india-covid-relief/
LOCATION:Online\, United States
CATEGORIES:DANCE,frontline workers,Fundraiser,funraiser,humanitarian work,Online Event,PERFORMANCE
ATTACH;FMTTYPE=image/png:https://www.seonagh.com/wp-content/uploads/2021/07/International-Solidarity-Concert-for-India-Covid-Relief-e1625710780257.png
ORGANIZER;CN="Se%C3%B3nagh Kummer":MAILTO:info@seonagh.com
END:VEVENT
BEGIN:VEVENT
DTSTART;VALUE=DATE:20210624
DTEND;VALUE=DATE:20210628
DTSTAMP:20260421T080428
CREATED:20210625T060052Z
LAST-MODIFIED:20210625T060052Z
UID:19522-1624554000-1624813199@www.seonagh.com
SUMMARY:Lead Her! Live Conversation about Women in Leadership
DESCRIPTION:
URL:https://www.seonagh.com/event/lead-her-live/
LOCATION:Online\, United States
CATEGORIES:Online Event,SEMINARS,upcoming speaking engagements,Women leadership,WORKSHOP
ATTACH;FMTTYPE=image/png:https://www.seonagh.com/wp-content/uploads/2021/06/LeadHer-Live-Graphic_Seognah-Kummer-scaled.png
END:VEVENT
BEGIN:VEVENT
DTSTART;VALUE=DATE:20210515
DTEND;VALUE=DATE:20210521
DTSTAMP:20260421T080428
CREATED:20210515T110849Z
LAST-MODIFIED:20210517T063042Z
UID:19424-1621098000-1621529999@www.seonagh.com
SUMMARY:Embodied Leadership in Women
DESCRIPTION:Join Seónagh Kummer’s FREE masterclass about Embodied Leadership in Women. FREE streaming on May 17th. Learn tools and skills of embodiment leaders need to build effective relationships.
URL:https://www.seonagh.com/event/embodied-leadership-in-women/
CATEGORIES:Online Event,SEMINARS,upcoming speaking engagements,WORKSHOP
ATTACH;FMTTYPE=image/png:https://www.seonagh.com/wp-content/uploads/2021/05/27.png
ORGANIZER;CN="Se%C3%B3nagh Kummer":MAILTO:info@seonagh.com
END:VEVENT
BEGIN:VEVENT
DTSTART;TZID=America/Vancouver:20210511T020000
DTEND;TZID=America/Vancouver:20210511T033000
DTSTAMP:20260421T080428
CREATED:20210506T224955Z
LAST-MODIFIED:20210511T101053Z
UID:19265-1620698400-1620703800@www.seonagh.com
SUMMARY:Meet the Frontline Women Leaders in the India Covid Crisis!
DESCRIPTION:Meet the wonderful Frontline Women Leaders in the India Covid Crisis!\nWe have arranged an incredible opportunity for our contributors and future donors to learn firsthand how the Mahatma Gandhi Seva Ashram (MGSA) is deploying their volunteer network in every village\, especially women. \nWe invite you to join us in a live field report on TUESDAY MAY 11th\, 9AM (PST) 12PM (EST) / 6PM (CET) / 9:30 (IST) TO OUR VIRTUAL MEETING \nPLEASE REGISTER HERE: \nhttps://us02web.zoom.us/meeting/register/tZItcOyhrzwvHNwI_Ti5626JWLtSUYtRio2c
URL:https://www.seonagh.com/event/meet-the-frontline-women-leaders-in-the-india-covid-crisis/
CATEGORIES:humanitarian work,Online Event,SEMINARS,upcoming speaking engagements
ATTACH;FMTTYPE=image/jpeg:https://www.seonagh.com/wp-content/uploads/2021/05/505230b9-aa49-42f1-ba6d-0d9cb7e1dfe0.jpg
ORGANIZER;CN="Se%C3%B3nagh Kummer":MAILTO:info@seonagh.com
END:VEVENT
BEGIN:VEVENT
DTSTART;VALUE=DATE:20210505
DTEND;VALUE=DATE:20210509
DTSTAMP:20260421T080428
CREATED:20210429T094534Z
LAST-MODIFIED:20210507T044824Z
UID:19015-1620234000-1620493199@www.seonagh.com
SUMMARY:Professional Women Rising Masterclass Series
DESCRIPTION:  \nJoin Dr. Seónagh! FREE 12 Day Masterclass Series To Go from “I Know There’s More to Life” to Living Fully and Boldly. \nRegister for FREE to hear my conversation with the wonderful Patti Hanrath of Kinergy Leadership! The summit includes not only my interview\, but those of the other 20+ experts. The wonderful speakers in this series bring their expertise and authentic beliefs on wellness and success\, specifically as this relates to women in leadership positions! Everyone brings a lot to the conversation. A power-house of inspiration and practical methods to develop yourself as we share ways in which we move forward together. \nRegister today!  My interview is available from Thursday May 6\, 7:30am PST-Saturday May 8\, 7:30am PST\, and you will be granted access to the daily replays for 48 hours! \nRegistration Link: https://summit.resilientwomenrising.ca/register \n  \n  \n  \n  \n  \n  \n 
URL:https://www.seonagh.com/event/professional-women-rising-masterclass-series/
CATEGORIES:Online Event,upcoming speaking engagements
ATTACH;FMTTYPE=image/png:https://www.seonagh.com/wp-content/uploads/2021/04/Seónagh-Kummer-Ph.D.-1-1.png
END:VEVENT
END:VCALENDAR